Package: Rsubread Version: 2.14.2 Command: /Library/Frameworks/R.framework/Resources/bin/R CMD check --install=check:Rsubread.install-out.txt --library=/Library/Frameworks/R.framework/Resources/library --no-vignettes --timings Rsubread_2.14.2.tar.gz StartedAt: 2023-10-16 06:26:33 -0400 (Mon, 16 Oct 2023) EndedAt: 2023-10-16 06:56:51 -0400 (Mon, 16 Oct 2023) EllapsedTime: 1818.2 seconds RetCode: 0 Status: OK CheckDir: Rsubread.Rcheck Warnings: 0