Package: Rsubread Version: 2.14.2 Command: /Library/Frameworks/R.framework/Resources/bin/R CMD INSTALL Rsubread StartedAt: 2023-10-15 15:04:07 -0400 (Sun, 15 Oct 2023) EndedAt: 2023-10-15 15:05:50 -0400 (Sun, 15 Oct 2023) EllapsedTime: 103.6 seconds RetCode: 0 Status: OK