Package: Rsubread Version: 2.14.2 Command: rm -rf Rsubread.buildbin-libdir && mkdir Rsubread.buildbin-libdir && F:\biocbuild\bbs-3.17-bioc\R\bin\R.exe CMD INSTALL --build --library=Rsubread.buildbin-libdir Rsubread_2.14.2.tar.gz StartedAt: 2023-10-16 09:26:37 -0400 (Mon, 16 Oct 2023) EndedAt: 2023-10-16 09:27:59 -0400 (Mon, 16 Oct 2023) EllapsedTime: 81.7 seconds RetCode: 0 Status: OK PackageFile: Rsubread_2.14.2.zip PackageFileSize: 13.05 MiB