Package: Rsubread Version: 2.14.2 Command: F:\biocbuild\bbs-3.17-bioc\R\bin\R.exe CMD check --no-multiarch --install=check:Rsubread.install-out.txt --library=F:\biocbuild\bbs-3.17-bioc\R\library --no-vignettes --timings Rsubread_2.14.2.tar.gz StartedAt: 2023-10-16 06:16:28 -0400 (Mon, 16 Oct 2023) EndedAt: 2023-10-16 06:19:43 -0400 (Mon, 16 Oct 2023) EllapsedTime: 195.3 seconds RetCode: 0 Status: OK CheckDir: Rsubread.Rcheck Warnings: 0