Package: Rtreemix Version: 1.62.0 Command: /home/biocbuild/bbs-3.17-bioc/R/bin/R CMD build --keep-empty-dirs --no-resave-data Rtreemix StartedAt: 2023-10-15 18:19:30 -0400 (Sun, 15 Oct 2023) EndedAt: 2023-10-15 18:20:21 -0400 (Sun, 15 Oct 2023) EllapsedTime: 51.2 seconds RetCode: 0 Status: OK PackageFile: Rtreemix_1.62.0.tar.gz PackageFileSize: 674.6 KiB