Package: Rtreemix Version: 1.62.0 Command: /home/biocbuild/bbs-3.17-bioc/R/bin/R CMD check --install=check:Rtreemix.install-out.txt --library=/home/biocbuild/bbs-3.17-bioc/R/site-library --timings Rtreemix_1.62.0.tar.gz StartedAt: 2023-10-16 00:40:09 -0400 (Mon, 16 Oct 2023) EndedAt: 2023-10-16 00:41:06 -0400 (Mon, 16 Oct 2023) EllapsedTime: 57.3 seconds RetCode: 0 Status: WARNINGS CheckDir: Rtreemix.Rcheck Warnings: 1