Package: S4Vectors Version: 0.38.2 Command: /Library/Frameworks/R.framework/Resources/bin/R CMD build --keep-empty-dirs --no-resave-data S4Vectors StartedAt: 2023-10-15 20:55:03 -0400 (Sun, 15 Oct 2023) EndedAt: 2023-10-15 20:57:27 -0400 (Sun, 15 Oct 2023) EllapsedTime: 144.2 seconds RetCode: 0 Status: OK PackageFile: S4Vectors_0.38.2.tar.gz PackageFileSize: 979.6 KiB