Package: S4Vectors Version: 0.38.2 Command: F:\biocbuild\bbs-3.17-bioc\R\bin\R.exe CMD check --no-multiarch --install=check:S4Vectors.install-out.txt --library=F:\biocbuild\bbs-3.17-bioc\R\library --no-vignettes --timings S4Vectors_0.38.2.tar.gz StartedAt: 2023-10-16 06:21:06 -0400 (Mon, 16 Oct 2023) EndedAt: 2023-10-16 06:22:49 -0400 (Mon, 16 Oct 2023) EllapsedTime: 103.3 seconds RetCode: 0 Status: WARNINGS CheckDir: S4Vectors.Rcheck Warnings: 4