Package: SANTA Version: 2.36.0 Command: /Library/Frameworks/R.framework/Resources/bin/R CMD build --keep-empty-dirs --no-resave-data SANTA StartedAt: 2023-10-15 20:55:37 -0400 (Sun, 15 Oct 2023) EndedAt: 2023-10-15 20:55:58 -0400 (Sun, 15 Oct 2023) EllapsedTime: 21.6 seconds RetCode: 0 Status: OK PackageFile: SANTA_2.36.0.tar.gz PackageFileSize: 4.372 MiB