Package: SC3 Version: 1.28.3 Command: chmod a+r SC3 -R && F:\biocbuild\bbs-3.17-bioc\R\bin\R.exe CMD build --keep-empty-dirs --no-resave-data SC3 StartedAt: 2023-10-15 22:02:10 -0400 (Sun, 15 Oct 2023) EndedAt: 2023-10-15 22:09:38 -0400 (Sun, 15 Oct 2023) EllapsedTime: 447.9 seconds RetCode: 0 Status: OK PackageFile: SC3_1.28.3.tar.gz PackageFileSize: 2.182 MiB