Package: SC3 Version: 1.28.3 Command: F:\biocbuild\bbs-3.17-bioc\R\bin\R.exe CMD check --no-multiarch --install=check:SC3.install-out.txt --library=F:\biocbuild\bbs-3.17-bioc\R\library --no-vignettes --timings SC3_1.28.3.tar.gz StartedAt: 2023-10-16 06:23:13 -0400 (Mon, 16 Oct 2023) EndedAt: 2023-10-16 06:26:18 -0400 (Mon, 16 Oct 2023) EllapsedTime: 184.9 seconds RetCode: 0 Status: OK CheckDir: SC3.Rcheck Warnings: 0