Package: SCANVIS Version: 1.14.0 Command: /Library/Frameworks/R.framework/Resources/bin/R CMD build --keep-empty-dirs --no-resave-data SCANVIS StartedAt: 2023-10-15 20:57:17 -0400 (Sun, 15 Oct 2023) EndedAt: 2023-10-15 20:58:57 -0400 (Sun, 15 Oct 2023) EllapsedTime: 99.9 seconds RetCode: 0 Status: OK PackageFile: SCANVIS_1.14.0.tar.gz PackageFileSize: 470 KiB