Package: SCANVIS Version: 1.14.0 Command: /Library/Frameworks/R.framework/Resources/bin/R CMD INSTALL SCANVIS StartedAt: 2023-10-15 15:29:04 -0400 (Sun, 15 Oct 2023) EndedAt: 2023-10-15 15:30:38 -0400 (Sun, 15 Oct 2023) EllapsedTime: 93.6 seconds RetCode: 0 Status: OK