Package: SEtools Version: 1.14.0 Command: /home/biocbuild/bbs-3.17-bioc/R/bin/R CMD INSTALL SEtools StartedAt: 2023-10-15 15:44:38 -0400 (Sun, 15 Oct 2023) EndedAt: 2023-10-15 15:45:10 -0400 (Sun, 15 Oct 2023) EllapsedTime: 31.5 seconds RetCode: 0 Status: OK