git_url: https://git.bioconductor.org/packages/SIAMCAT git_branch: RELEASE_3_17 git_last_commit: 026eb87 git_last_commit_date: 2023-04-25 11:02:01 -0400 (Tue, 25 Apr 2023) Package: SIAMCAT Version: 2.4.0 Maintainer: Jakob Wirbel MaintainerEmail: jakob.wirbel at embl.de