Package: SIAMCAT Version: 2.4.0 Command: rm -rf SIAMCAT.buildbin-libdir && mkdir SIAMCAT.buildbin-libdir && /Users/biocbuild/BBS/utils/build-universal.sh SIAMCAT_2.4.0.tar.gz /Library/Frameworks/R.framework/Resources/bin/R SIAMCAT.buildbin-libdir StartedAt: 2023-10-13 10:08:31 -0400 (Fri, 13 Oct 2023) EndedAt: 2023-10-13 10:10:25 -0400 (Fri, 13 Oct 2023) EllapsedTime: 114.0 seconds RetCode: 0 Status: OK PackageFile: SIAMCAT_2.4.0.tgz PackageFileSize: 10.67 MiB