Package: SIAMCAT Version: 2.4.0 Command: /Library/Frameworks/R.framework/Resources/bin/R CMD INSTALL SIAMCAT StartedAt: 2023-10-15 16:09:34 -0400 (Sun, 15 Oct 2023) EndedAt: 2023-10-15 16:11:15 -0400 (Sun, 15 Oct 2023) EllapsedTime: 101.0 seconds RetCode: 0 Status: OK