Package: SIMLR Version: 1.26.1 Command: /home/biocbuild/bbs-3.17-bioc/R/bin/R CMD check --install=check:SIMLR.install-out.txt --library=/home/biocbuild/bbs-3.17-bioc/R/site-library --timings SIMLR_1.26.1.tar.gz StartedAt: 2023-10-16 01:08:58 -0400 (Mon, 16 Oct 2023) EndedAt: 2023-10-16 01:15:01 -0400 (Mon, 16 Oct 2023) EllapsedTime: 362.6 seconds RetCode: 0 Status: OK CheckDir: SIMLR.Rcheck Warnings: 0