Package: SIMLR Version: 1.26.1 Command: /home/biocbuild/bbs-3.17-bioc/R/bin/R CMD INSTALL SIMLR StartedAt: 2023-10-15 15:10:02 -0400 (Sun, 15 Oct 2023) EndedAt: 2023-10-15 15:10:30 -0400 (Sun, 15 Oct 2023) EllapsedTime: 28.0 seconds RetCode: 0 Status: OK