Package: SISPA Version: 1.30.0 Command: /home/biocbuild/bbs-3.17-bioc/R/bin/R CMD build --keep-empty-dirs --no-resave-data SISPA StartedAt: 2023-10-15 18:35:04 -0400 (Sun, 15 Oct 2023) EndedAt: 2023-10-15 18:36:01 -0400 (Sun, 15 Oct 2023) EllapsedTime: 57.0 seconds RetCode: 0 Status: OK PackageFile: SISPA_1.30.0.tar.gz PackageFileSize: 250.3 KiB