Package: SNPRelate Version: 1.34.1 Command: chmod a+r SNPRelate -R && F:\biocbuild\bbs-3.17-bioc\R\bin\R.exe CMD build --keep-empty-dirs --no-resave-data SNPRelate StartedAt: 2023-10-15 22:29:53 -0400 (Sun, 15 Oct 2023) EndedAt: 2023-10-15 22:31:36 -0400 (Sun, 15 Oct 2023) EllapsedTime: 103.5 seconds RetCode: 0 Status: OK PackageFile: SNPRelate_1.34.1.tar.gz PackageFileSize: 1.917 MiB