Package: STATegRa Version: 1.36.0 Command: /home/biocbuild/bbs-3.17-bioc/R/bin/R CMD build --keep-empty-dirs --no-resave-data STATegRa StartedAt: 2023-10-15 18:42:24 -0400 (Sun, 15 Oct 2023) EndedAt: 2023-10-15 18:44:25 -0400 (Sun, 15 Oct 2023) EllapsedTime: 120.9 seconds RetCode: 0 Status: OK PackageFile: STATegRa_1.36.0.tar.gz PackageFileSize: 4.801 MiB