Package: STATegRa Version: 1.36.0 Command: /home/biocbuild/bbs-3.17-bioc/R/bin/R CMD check --install=check:STATegRa.install-out.txt --library=/home/biocbuild/bbs-3.17-bioc/R/site-library --timings STATegRa_1.36.0.tar.gz StartedAt: 2023-10-16 01:30:26 -0400 (Mon, 16 Oct 2023) EndedAt: 2023-10-16 01:35:10 -0400 (Mon, 16 Oct 2023) EllapsedTime: 283.6 seconds RetCode: 0 Status: OK CheckDir: STATegRa.Rcheck Warnings: 0