Package: ScreenR Version: 1.2.0 Command: rm -rf ScreenR.buildbin-libdir && mkdir ScreenR.buildbin-libdir && F:\biocbuild\bbs-3.17-bioc\R\bin\R.exe CMD INSTALL --build --library=ScreenR.buildbin-libdir ScreenR_1.2.0.tar.gz StartedAt: 2023-10-16 09:30:18 -0400 (Mon, 16 Oct 2023) EndedAt: 2023-10-16 09:30:36 -0400 (Mon, 16 Oct 2023) EllapsedTime: 17.6 seconds RetCode: 0 Status: OK PackageFile: ScreenR_1.2.0.zip PackageFileSize: 1.817 MiB