Package: ScreenR Version: 1.2.0 Command: chmod a+r ScreenR -R && F:\biocbuild\bbs-3.17-bioc\R\bin\R.exe CMD build --keep-empty-dirs --no-resave-data ScreenR StartedAt: 2023-10-15 22:12:48 -0400 (Sun, 15 Oct 2023) EndedAt: 2023-10-15 22:19:43 -0400 (Sun, 15 Oct 2023) EllapsedTime: 415.1 seconds RetCode: 0 Status: OK PackageFile: ScreenR_1.2.0.tar.gz PackageFileSize: 1.639 MiB