Package: SemDist Version: 1.34.0 Command: /home/biocbuild/bbs-3.17-bioc/R/bin/R CMD INSTALL SemDist StartedAt: 2023-10-15 15:19:14 -0400 (Sun, 15 Oct 2023) EndedAt: 2023-10-15 15:19:28 -0400 (Sun, 15 Oct 2023) EllapsedTime: 14.6 seconds RetCode: 0 Status: OK