Package: SemDist Version: 1.34.0 Command: F:\biocbuild\bbs-3.17-bioc\R\bin\R.exe CMD check --no-multiarch --install=check:SemDist.install-out.txt --library=F:\biocbuild\bbs-3.17-bioc\R\library --no-vignettes --timings SemDist_1.34.0.tar.gz StartedAt: 2023-10-16 06:43:09 -0400 (Mon, 16 Oct 2023) EndedAt: 2023-10-16 06:46:00 -0400 (Mon, 16 Oct 2023) EllapsedTime: 171.4 seconds RetCode: 0 Status: OK CheckDir: SemDist.Rcheck Warnings: 0