Package: SharedObject Version: 1.14.1 Command: /home/biocbuild/bbs-3.17-bioc/R/bin/R CMD build --keep-empty-dirs --no-resave-data SharedObject StartedAt: 2023-10-15 18:31:39 -0400 (Sun, 15 Oct 2023) EndedAt: 2023-10-15 18:32:28 -0400 (Sun, 15 Oct 2023) EllapsedTime: 48.5 seconds RetCode: 0 Status: OK PackageFile: SharedObject_1.14.1.tar.gz PackageFileSize: 2.836 MiB