Package: SharedObject Version: 1.14.1 Command: /home/biocbuild/bbs-3.17-bioc/R/bin/R CMD check --install=check:SharedObject.install-out.txt --library=/home/biocbuild/bbs-3.17-bioc/R/site-library --timings SharedObject_1.14.1.tar.gz StartedAt: 2023-10-16 01:04:53 -0400 (Mon, 16 Oct 2023) EndedAt: 2023-10-16 01:06:19 -0400 (Mon, 16 Oct 2023) EllapsedTime: 85.4 seconds RetCode: 1 Status: ERROR CheckDir: SharedObject.Rcheck Warnings: NA