Package: SharedObject Version: 1.14.1 Command: /home/biocbuild/bbs-3.17-bioc/R/bin/R CMD INSTALL SharedObject StartedAt: 2023-10-15 15:08:03 -0400 (Sun, 15 Oct 2023) EndedAt: 2023-10-15 15:08:41 -0400 (Sun, 15 Oct 2023) EllapsedTime: 37.2 seconds RetCode: 0 Status: OK