Package: SharedObject Version: 1.14.1 Command: chmod a+r SharedObject -R && F:\biocbuild\bbs-3.17-bioc\R\bin\R.exe CMD build --keep-empty-dirs --no-resave-data SharedObject StartedAt: 2023-10-15 22:21:46 -0400 (Sun, 15 Oct 2023) EndedAt: 2023-10-15 22:23:02 -0400 (Sun, 15 Oct 2023) EllapsedTime: 75.6 seconds RetCode: 0 Status: OK PackageFile: SharedObject_1.14.1.tar.gz PackageFileSize: 896.6 KiB