Package: SharedObject Version: 1.14.1 Command: F:\biocbuild\bbs-3.17-bioc\R\bin\R.exe CMD INSTALL SharedObject StartedAt: 2023-10-15 15:49:27 -0400 (Sun, 15 Oct 2023) EndedAt: 2023-10-15 15:50:32 -0400 (Sun, 15 Oct 2023) EllapsedTime: 64.4 seconds RetCode: 0 Status: OK