Package: SigCheck Version: 2.32.1 Command: chmod a+r SigCheck -R && F:\biocbuild\bbs-3.17-bioc\R\bin\R.exe CMD build --keep-empty-dirs --no-resave-data SigCheck StartedAt: 2023-10-15 22:22:57 -0400 (Sun, 15 Oct 2023) EndedAt: 2023-10-15 22:24:16 -0400 (Sun, 15 Oct 2023) EllapsedTime: 78.8 seconds RetCode: 0 Status: OK PackageFile: SigCheck_2.32.1.tar.gz PackageFileSize: 370.3 KiB