Package: SigFuge Version: 1.38.0 Command: /home/biocbuild/bbs-3.17-bioc/R/bin/R CMD check --install=check:SigFuge.install-out.txt --library=/home/biocbuild/bbs-3.17-bioc/R/site-library --timings SigFuge_1.38.0.tar.gz StartedAt: 2023-10-16 01:06:39 -0400 (Mon, 16 Oct 2023) EndedAt: 2023-10-16 01:09:49 -0400 (Mon, 16 Oct 2023) EllapsedTime: 189.8 seconds RetCode: 0 Status: OK CheckDir: SigFuge.Rcheck Warnings: 0