Package: SigsPack Version: 1.14.0 Command: /home/biocbuild/bbs-3.17-bioc/R/bin/R CMD check --install=check:SigsPack.install-out.txt --library=/home/biocbuild/bbs-3.17-bioc/R/site-library --timings SigsPack_1.14.0.tar.gz StartedAt: 2023-10-16 01:07:34 -0400 (Mon, 16 Oct 2023) EndedAt: 2023-10-16 01:11:13 -0400 (Mon, 16 Oct 2023) EllapsedTime: 218.2 seconds RetCode: 0 Status: OK CheckDir: SigsPack.Rcheck Warnings: 0