Package: SigsPack Version: 1.14.0 Command: rm -rf SigsPack.buildbin-libdir && mkdir SigsPack.buildbin-libdir && F:\biocbuild\bbs-3.17-bioc\R\bin\R.exe CMD INSTALL --build --library=SigsPack.buildbin-libdir SigsPack_1.14.0.tar.gz StartedAt: 2023-10-16 09:32:39 -0400 (Mon, 16 Oct 2023) EndedAt: 2023-10-16 09:32:44 -0400 (Mon, 16 Oct 2023) EllapsedTime: 4.5 seconds RetCode: 0 Status: OK PackageFile: SigsPack_1.14.0.zip PackageFileSize: 478.7 KiB