Package: SingleMoleculeFootprinting Version: 1.8.0 Command: rm -rf SingleMoleculeFootprinting.buildbin-libdir && mkdir SingleMoleculeFootprinting.buildbin-libdir && /Users/biocbuild/BBS/utils/build-universal.sh SingleMoleculeFootprinting_1.8.0.tar.gz /Library/Frameworks/R.framework/Resources/bin/R SingleMoleculeFootprinting.buildbin-libdir StartedAt: 2023-10-02 10:30:46 -0400 (Mon, 02 Oct 2023) EndedAt: 2023-10-02 10:33:14 -0400 (Mon, 02 Oct 2023) EllapsedTime: 148.5 seconds RetCode: 0 Status: OK PackageFile: SingleMoleculeFootprinting_1.8.0.tgz PackageFileSize: 756.1 KiB