Package: SingleMoleculeFootprinting Version: 1.8.0 Command: /Library/Frameworks/R.framework/Resources/bin/R CMD INSTALL SingleMoleculeFootprinting StartedAt: 2023-10-15 15:43:42 -0400 (Sun, 15 Oct 2023) EndedAt: 2023-10-15 15:46:02 -0400 (Sun, 15 Oct 2023) EllapsedTime: 140.2 seconds RetCode: 0 Status: OK