Package: SingleMoleculeFootprinting Version: 1.8.0 Command: /home/biocbuild/bbs-3.17-bioc/R/bin/R CMD INSTALL SingleMoleculeFootprinting StartedAt: 2023-10-15 15:27:42 -0400 (Sun, 15 Oct 2023) EndedAt: 2023-10-15 15:28:26 -0400 (Sun, 15 Oct 2023) EllapsedTime: 43.4 seconds RetCode: 0 Status: OK