Package: SomaticSignatures Version: 2.36.0 Command: /home/biocbuild/bbs-3.17-bioc/R/bin/R CMD INSTALL SomaticSignatures StartedAt: 2023-10-15 15:30:53 -0400 (Sun, 15 Oct 2023) EndedAt: 2023-10-15 15:31:49 -0400 (Sun, 15 Oct 2023) EllapsedTime: 56.2 seconds RetCode: 0 Status: OK