Package: SomaticSignatures Version: 2.36.0 Command: chmod a+r SomaticSignatures -R && F:\biocbuild\bbs-3.17-bioc\R\bin\R.exe CMD build --keep-empty-dirs --no-resave-data SomaticSignatures StartedAt: 2023-10-15 22:30:10 -0400 (Sun, 15 Oct 2023) EndedAt: 2023-10-15 22:37:10 -0400 (Sun, 15 Oct 2023) EllapsedTime: 419.8 seconds RetCode: 0 Status: OK PackageFile: SomaticSignatures_2.36.0.tar.gz PackageFileSize: 783.4 KiB