Package: SpatialExperiment Version: 1.10.0 Command: /home/biocbuild/bbs-3.17-bioc/R/bin/R CMD check --install=check:SpatialExperiment.install-out.txt --library=/home/biocbuild/bbs-3.17-bioc/R/site-library --timings SpatialExperiment_1.10.0.tar.gz StartedAt: 2023-10-16 01:19:10 -0400 (Mon, 16 Oct 2023) EndedAt: 2023-10-16 01:23:54 -0400 (Mon, 16 Oct 2023) EllapsedTime: 284.3 seconds RetCode: 0 Status: OK CheckDir: SpatialExperiment.Rcheck Warnings: 0