Package: Spectra Version: 1.10.3 Command: /home/biocbuild/bbs-3.17-bioc/R/bin/R CMD build --keep-empty-dirs --no-resave-data Spectra StartedAt: 2023-10-15 18:38:18 -0400 (Sun, 15 Oct 2023) EndedAt: 2023-10-15 18:38:59 -0400 (Sun, 15 Oct 2023) EllapsedTime: 40.6 seconds RetCode: 0 Status: OK PackageFile: Spectra_1.10.3.tar.gz PackageFileSize: 1.123 MiB