Package: Spectra Version: 1.10.3 Command: rm -rf Spectra.buildbin-libdir && mkdir Spectra.buildbin-libdir && F:\biocbuild\bbs-3.17-bioc\R\bin\R.exe CMD INSTALL --build --library=Spectra.buildbin-libdir Spectra_1.10.3.tar.gz StartedAt: 2023-10-16 09:35:32 -0400 (Mon, 16 Oct 2023) EndedAt: 2023-10-16 09:36:02 -0400 (Mon, 16 Oct 2023) EllapsedTime: 30.3 seconds RetCode: 0 Status: OK PackageFile: Spectra_1.10.3.zip PackageFileSize: 1.559 MiB