Package: Spectra Version: 1.10.3 Command: chmod a+r Spectra -R && F:\biocbuild\bbs-3.17-bioc\R\bin\R.exe CMD build --keep-empty-dirs --no-resave-data Spectra StartedAt: 2023-10-15 22:34:51 -0400 (Sun, 15 Oct 2023) EndedAt: 2023-10-15 22:36:35 -0400 (Sun, 15 Oct 2023) EllapsedTime: 103.4 seconds RetCode: 0 Status: OK PackageFile: Spectra_1.10.3.tar.gz PackageFileSize: 1.057 MiB