Package: SplicingGraphs Version: 1.40.0 Command: chmod a+r SplicingGraphs -R && F:\biocbuild\bbs-3.17-bioc\R\bin\R.exe CMD build --keep-empty-dirs --no-resave-data SplicingGraphs StartedAt: 2023-10-15 22:36:58 -0400 (Sun, 15 Oct 2023) EndedAt: 2023-10-15 22:40:00 -0400 (Sun, 15 Oct 2023) EllapsedTime: 182.5 seconds RetCode: 0 Status: OK PackageFile: SplicingGraphs_1.40.0.tar.gz PackageFileSize: 45.84 MiB