Package: SplicingGraphs Version: 1.40.0 Command: F:\biocbuild\bbs-3.17-bioc\R\bin\R.exe CMD check --no-multiarch --install=check:SplicingGraphs.install-out.txt --library=F:\biocbuild\bbs-3.17-bioc\R\library --no-vignettes --timings SplicingGraphs_1.40.0.tar.gz StartedAt: 2023-10-16 07:13:47 -0400 (Mon, 16 Oct 2023) EndedAt: 2023-10-16 07:26:29 -0400 (Mon, 16 Oct 2023) EllapsedTime: 761.2 seconds RetCode: 0 Status: WARNINGS CheckDir: SplicingGraphs.Rcheck Warnings: 3