Package: Statial Version: 1.2.4 Command: /Library/Frameworks/R.framework/Resources/bin/R CMD build --keep-empty-dirs --no-resave-data Statial StartedAt: 2023-10-15 21:42:56 -0400 (Sun, 15 Oct 2023) EndedAt: 2023-10-15 21:56:50 -0400 (Sun, 15 Oct 2023) EllapsedTime: 833.6 seconds RetCode: 0 Status: OK PackageFile: Statial_1.2.4.tar.gz PackageFileSize: 8.912 MiB