Package: Statial Version: 1.2.4 Command: /Library/Frameworks/R.framework/Resources/bin/R CMD INSTALL Statial StartedAt: 2023-10-15 15:48:43 -0400 (Sun, 15 Oct 2023) EndedAt: 2023-10-15 15:50:08 -0400 (Sun, 15 Oct 2023) EllapsedTime: 85.5 seconds RetCode: 0 Status: OK