Package: Statial Version: 1.2.4 Command: rm -rf Statial.buildbin-libdir && mkdir Statial.buildbin-libdir && F:\biocbuild\bbs-3.17-bioc\R\bin\R.exe CMD INSTALL --build --library=Statial.buildbin-libdir Statial_1.2.4.tar.gz StartedAt: 2023-10-16 09:36:47 -0400 (Mon, 16 Oct 2023) EndedAt: 2023-10-16 09:37:25 -0400 (Mon, 16 Oct 2023) EllapsedTime: 38.3 seconds RetCode: 0 Status: OK PackageFile: Statial_1.2.4.zip PackageFileSize: 5.865 MiB